BEGIN:VCALENDAR
VERSION:2.0
PRODID:https://www.kufer.de/kuferweb / DE
METHOD:PUBLISH
CALSCALE:GREGORIAN
X-WR-TIMEZONE:Europe/Berlin
BEGIN:VTIMEZONE
TZID:Europe/Berlin
X-LIC-LOCATION:Europe/Berlin
BEGIN:DAYLIGHT
TZOFFSETFROM:+0100
TZOFFSETTO:+0200
TZNAME:CEST
DTSTART:19700329T020000
RRULE:FREQ=YEARLY;INTERVAL=1;BYDAY=-1SU;BYMONTH=3
END:DAYLIGHT
BEGIN:STANDARD
TZOFFSETFROM:+0200
TZOFFSETTO:+0100
TZNAME:CET
DTSTART:19701025T030000
RRULE:FREQ=YEARLY;INTERVAL=1;BYDAY=-1SU;BYMONTH=10
END:STANDARD
END:VTIMEZONE
BEGIN:VEVENT
DTSTAMP:20260422T152536
DTSTART;TZID=Europe/Berlin:20260317T153000
DTEND;TZID=Europe/Berlin:20260317T170000
UID:261-7030-20260317T153000@KFBTAUNUS
SUMMARY:Natur macht Spaß für Kinder zwischen 3 - 5 Jahren mit einer Begleitperson (261-7030) 
LOCATION:Treffpunkt Rotebergstr. 41 in Kelkheim-Hornau, Rotebergstr. 41, 65779 Kelkheim-Hornau
END:VEVENT
BEGIN:VEVENT
DTSTAMP:20260422T152536
DTSTART;TZID=Europe/Berlin:20260324T153000
DTEND;TZID=Europe/Berlin:20260324T170000
UID:261-7030-20260324T153000@KFBTAUNUS
SUMMARY:Natur macht Spaß für Kinder zwischen 3 - 5 Jahren mit einer Begleitperson (261-7030) 
LOCATION:Treffpunkt Rotebergstr. 41 in Kelkheim-Hornau, Rotebergstr. 41, 65779 Kelkheim-Hornau
END:VEVENT
BEGIN:VEVENT
DTSTAMP:20260422T152536
DTSTART;TZID=Europe/Berlin:20260331T153000
DTEND;TZID=Europe/Berlin:20260331T170000
UID:261-7030-20260331T153000@KFBTAUNUS
SUMMARY:Natur macht Spaß für Kinder zwischen 3 - 5 Jahren mit einer Begleitperson (261-7030) 
LOCATION:Treffpunkt Rotebergstr. 41 in Kelkheim-Hornau, Rotebergstr. 41, 65779 Kelkheim-Hornau
END:VEVENT
BEGIN:VEVENT
DTSTAMP:20260422T152536
DTSTART;TZID=Europe/Berlin:20260414T153000
DTEND;TZID=Europe/Berlin:20260414T170000
UID:261-7030-20260414T153000@KFBTAUNUS
SUMMARY:Natur macht Spaß für Kinder zwischen 3 - 5 Jahren mit einer Begleitperson (261-7030) 
LOCATION:Treffpunkt Rotebergstr. 41 in Kelkheim-Hornau, Rotebergstr. 41, 65779 Kelkheim-Hornau
END:VEVENT
BEGIN:VEVENT
DTSTAMP:20260422T152536
DTSTART;TZID=Europe/Berlin:20260421T153000
DTEND;TZID=Europe/Berlin:20260421T170000
UID:261-7030-20260421T153000@KFBTAUNUS
SUMMARY:Natur macht Spaß für Kinder zwischen 3 - 5 Jahren mit einer Begleitperson (261-7030) 
LOCATION:Treffpunkt Rotebergstr. 41 in Kelkheim-Hornau, Rotebergstr. 41, 65779 Kelkheim-Hornau
END:VEVENT
BEGIN:VEVENT
DTSTAMP:20260422T152536
DTSTART;TZID=Europe/Berlin:20260428T153000
DTEND;TZID=Europe/Berlin:20260428T170000
UID:261-7030-20260428T153000@KFBTAUNUS
SUMMARY:Natur macht Spaß für Kinder zwischen 3 - 5 Jahren mit einer Begleitperson (261-7030) 
LOCATION:Treffpunkt Rotebergstr. 41 in Kelkheim-Hornau, Rotebergstr. 41, 65779 Kelkheim-Hornau
END:VEVENT
BEGIN:VEVENT
DTSTAMP:20260422T152536
DTSTART;TZID=Europe/Berlin:20260505T153000
DTEND;TZID=Europe/Berlin:20260505T170000
UID:261-7030-20260505T153000@KFBTAUNUS
SUMMARY:Natur macht Spaß für Kinder zwischen 3 - 5 Jahren mit einer Begleitperson (261-7030) 
LOCATION:Treffpunkt Rotebergstr. 41 in Kelkheim-Hornau, Rotebergstr. 41, 65779 Kelkheim-Hornau
END:VEVENT
END:VCALENDAR