BEGIN:VCALENDAR
VERSION:2.0
PRODID:https://www.kufer.de/kuferweb / DE
METHOD:PUBLISH
CALSCALE:GREGORIAN
X-WR-TIMEZONE:Europe/Berlin
BEGIN:VTIMEZONE
TZID:Europe/Berlin
X-LIC-LOCATION:Europe/Berlin
BEGIN:DAYLIGHT
TZOFFSETFROM:+0100
TZOFFSETTO:+0200
TZNAME:CEST
DTSTART:19700329T020000
RRULE:FREQ=YEARLY;INTERVAL=1;BYDAY=-1SU;BYMONTH=3
END:DAYLIGHT
BEGIN:STANDARD
TZOFFSETFROM:+0200
TZOFFSETTO:+0100
TZNAME:CET
DTSTART:19701025T030000
RRULE:FREQ=YEARLY;INTERVAL=1;BYDAY=-1SU;BYMONTH=10
END:STANDARD
END:VTIMEZONE
BEGIN:VEVENT
DTSTAMP:20260422T163312
DTSTART;TZID=Europe/Berlin:20260429T153000
DTEND;TZID=Europe/Berlin:20260429T163000
UID:262-6201-20260429T153000@KFBTAUNUS
SUMMARY:Hip Hop und Breakdance Tanzkurs für Kinder im Alter von von 5 - 7 Jahre (262-6201) 
LOCATION:Kath. Gemeindezentrum, Sulzbach, Eschborner Str. 2a, 65843 Sulzbach
END:VEVENT
BEGIN:VEVENT
DTSTAMP:20260422T163312
DTSTART;TZID=Europe/Berlin:20260506T153000
DTEND;TZID=Europe/Berlin:20260506T163000
UID:262-6201-20260506T153000@KFBTAUNUS
SUMMARY:Hip Hop und Breakdance Tanzkurs für Kinder im Alter von von 5 - 7 Jahre (262-6201) 
LOCATION:Kath. Gemeindezentrum, Sulzbach, Eschborner Str. 2a, 65843 Sulzbach
END:VEVENT
BEGIN:VEVENT
DTSTAMP:20260422T163312
DTSTART;TZID=Europe/Berlin:20260513T153000
DTEND;TZID=Europe/Berlin:20260513T163000
UID:262-6201-20260513T153000@KFBTAUNUS
SUMMARY:Hip Hop und Breakdance Tanzkurs für Kinder im Alter von von 5 - 7 Jahre (262-6201) 
LOCATION:Kath. Gemeindezentrum, Sulzbach, Eschborner Str. 2a, 65843 Sulzbach
END:VEVENT
BEGIN:VEVENT
DTSTAMP:20260422T163312
DTSTART;TZID=Europe/Berlin:20260520T153000
DTEND;TZID=Europe/Berlin:20260520T163000
UID:262-6201-20260520T153000@KFBTAUNUS
SUMMARY:Hip Hop und Breakdance Tanzkurs für Kinder im Alter von von 5 - 7 Jahre (262-6201) 
LOCATION:Kath. Gemeindezentrum, Sulzbach, Eschborner Str. 2a, 65843 Sulzbach
END:VEVENT
BEGIN:VEVENT
DTSTAMP:20260422T163312
DTSTART;TZID=Europe/Berlin:20260527T153000
DTEND;TZID=Europe/Berlin:20260527T163000
UID:262-6201-20260527T153000@KFBTAUNUS
SUMMARY:Hip Hop und Breakdance Tanzkurs für Kinder im Alter von von 5 - 7 Jahre (262-6201) 
LOCATION:Kath. Gemeindezentrum, Sulzbach, Eschborner Str. 2a, 65843 Sulzbach
END:VEVENT
BEGIN:VEVENT
DTSTAMP:20260422T163312
DTSTART;TZID=Europe/Berlin:20260610T153000
DTEND;TZID=Europe/Berlin:20260610T163000
UID:262-6201-20260610T153000@KFBTAUNUS
SUMMARY:Hip Hop und Breakdance Tanzkurs für Kinder im Alter von von 5 - 7 Jahre (262-6201) 
LOCATION:Kath. Gemeindezentrum, Sulzbach, Eschborner Str. 2a, 65843 Sulzbach
END:VEVENT
END:VCALENDAR