BEGIN:VCALENDAR
VERSION:2.0
PRODID:https://www.kufer.de/kuferweb / DE
METHOD:PUBLISH
CALSCALE:GREGORIAN
X-WR-TIMEZONE:Europe/Berlin
BEGIN:VTIMEZONE
TZID:Europe/Berlin
X-LIC-LOCATION:Europe/Berlin
BEGIN:DAYLIGHT
TZOFFSETFROM:+0100
TZOFFSETTO:+0200
TZNAME:CEST
DTSTART:19700329T020000
RRULE:FREQ=YEARLY;INTERVAL=1;BYDAY=-1SU;BYMONTH=3
END:DAYLIGHT
BEGIN:STANDARD
TZOFFSETFROM:+0200
TZOFFSETTO:+0100
TZNAME:CET
DTSTART:19701025T030000
RRULE:FREQ=YEARLY;INTERVAL=1;BYDAY=-1SU;BYMONTH=10
END:STANDARD
END:VTIMEZONE
BEGIN:VEVENT
DTSTAMP:20260422T113548
DTSTART;TZID=Europe/Berlin:20260825T200000
DTEND;TZID=Europe/Berlin:20260825T221500
UID:263-3040-20260825T200000@KFBTAUNUS
SUMMARY:KESS erziehen "Weniger Stress, mehr Freude"  Online Veranstaltung (263-3040) 
LOCATION:Online Kurs als Zoom Veranstaltung, , Online Kurs als Zoom Veranstaltung
END:VEVENT
BEGIN:VEVENT
DTSTAMP:20260422T113548
DTSTART;TZID=Europe/Berlin:20260901T200000
DTEND;TZID=Europe/Berlin:20260901T221500
UID:263-3040-20260901T200000@KFBTAUNUS
SUMMARY:KESS erziehen "Weniger Stress, mehr Freude"  Online Veranstaltung (263-3040) 
LOCATION:Online Kurs als Zoom Veranstaltung, , Online Kurs als Zoom Veranstaltung
END:VEVENT
BEGIN:VEVENT
DTSTAMP:20260422T113548
DTSTART;TZID=Europe/Berlin:20260908T200000
DTEND;TZID=Europe/Berlin:20260908T221500
UID:263-3040-20260908T200000@KFBTAUNUS
SUMMARY:KESS erziehen "Weniger Stress, mehr Freude"  Online Veranstaltung (263-3040) 
LOCATION:Online Kurs als Zoom Veranstaltung, , Online Kurs als Zoom Veranstaltung
END:VEVENT
BEGIN:VEVENT
DTSTAMP:20260422T113548
DTSTART;TZID=Europe/Berlin:20260915T200000
DTEND;TZID=Europe/Berlin:20260915T221500
UID:263-3040-20260915T200000@KFBTAUNUS
SUMMARY:KESS erziehen "Weniger Stress, mehr Freude"  Online Veranstaltung (263-3040) 
LOCATION:Online Kurs als Zoom Veranstaltung, , Online Kurs als Zoom Veranstaltung
END:VEVENT
BEGIN:VEVENT
DTSTAMP:20260422T113548
DTSTART;TZID=Europe/Berlin:20260922T200000
DTEND;TZID=Europe/Berlin:20260922T221500
UID:263-3040-20260922T200000@KFBTAUNUS
SUMMARY:KESS erziehen "Weniger Stress, mehr Freude"  Online Veranstaltung (263-3040) 
LOCATION:Online Kurs als Zoom Veranstaltung, , Online Kurs als Zoom Veranstaltung
END:VEVENT
END:VCALENDAR