BEGIN:VCALENDAR
VERSION:2.0
PRODID:https://www.kufer.de/kuferweb / DE
METHOD:PUBLISH
CALSCALE:GREGORIAN
X-WR-TIMEZONE:Europe/Berlin
BEGIN:VTIMEZONE
TZID:Europe/Berlin
X-LIC-LOCATION:Europe/Berlin
BEGIN:DAYLIGHT
TZOFFSETFROM:+0100
TZOFFSETTO:+0200
TZNAME:CEST
DTSTART:19700329T020000
RRULE:FREQ=YEARLY;INTERVAL=1;BYDAY=-1SU;BYMONTH=3
END:DAYLIGHT
BEGIN:STANDARD
TZOFFSETFROM:+0200
TZOFFSETTO:+0100
TZNAME:CET
DTSTART:19701025T030000
RRULE:FREQ=YEARLY;INTERVAL=1;BYDAY=-1SU;BYMONTH=10
END:STANDARD
END:VTIMEZONE
BEGIN:VEVENT
DTSTAMP:20260422T183053
DTSTART;TZID=Europe/Berlin:20260811T153000
DTEND;TZID=Europe/Berlin:20260811T170000
UID:263-7020-20260811T153000@KFBTAUNUS
SUMMARY:Natur macht Spaß für Kinder zwischen 3 - 5 Jahren mit einer Begleitperson (263-7020) 
LOCATION:Treffpunkt Rotebergstr. 41 in Kelkheim-Hornau, Rotebergstr. 41, 65779 Kelkheim-Hornau
END:VEVENT
BEGIN:VEVENT
DTSTAMP:20260422T183053
DTSTART;TZID=Europe/Berlin:20260818T153000
DTEND;TZID=Europe/Berlin:20260818T170000
UID:263-7020-20260818T153000@KFBTAUNUS
SUMMARY:Natur macht Spaß für Kinder zwischen 3 - 5 Jahren mit einer Begleitperson (263-7020) 
LOCATION:Treffpunkt Rotebergstr. 41 in Kelkheim-Hornau, Rotebergstr. 41, 65779 Kelkheim-Hornau
END:VEVENT
BEGIN:VEVENT
DTSTAMP:20260422T183053
DTSTART;TZID=Europe/Berlin:20260825T153000
DTEND;TZID=Europe/Berlin:20260825T170000
UID:263-7020-20260825T153000@KFBTAUNUS
SUMMARY:Natur macht Spaß für Kinder zwischen 3 - 5 Jahren mit einer Begleitperson (263-7020) 
LOCATION:Treffpunkt Rotebergstr. 41 in Kelkheim-Hornau, Rotebergstr. 41, 65779 Kelkheim-Hornau
END:VEVENT
BEGIN:VEVENT
DTSTAMP:20260422T183053
DTSTART;TZID=Europe/Berlin:20260901T153000
DTEND;TZID=Europe/Berlin:20260901T170000
UID:263-7020-20260901T153000@KFBTAUNUS
SUMMARY:Natur macht Spaß für Kinder zwischen 3 - 5 Jahren mit einer Begleitperson (263-7020) 
LOCATION:Treffpunkt Rotebergstr. 41 in Kelkheim-Hornau, Rotebergstr. 41, 65779 Kelkheim-Hornau
END:VEVENT
BEGIN:VEVENT
DTSTAMP:20260422T183053
DTSTART;TZID=Europe/Berlin:20260908T153000
DTEND;TZID=Europe/Berlin:20260908T170000
UID:263-7020-20260908T153000@KFBTAUNUS
SUMMARY:Natur macht Spaß für Kinder zwischen 3 - 5 Jahren mit einer Begleitperson (263-7020) 
LOCATION:Treffpunkt Rotebergstr. 41 in Kelkheim-Hornau, Rotebergstr. 41, 65779 Kelkheim-Hornau
END:VEVENT
BEGIN:VEVENT
DTSTAMP:20260422T183053
DTSTART;TZID=Europe/Berlin:20260915T153000
DTEND;TZID=Europe/Berlin:20260915T170000
UID:263-7020-20260915T153000@KFBTAUNUS
SUMMARY:Natur macht Spaß für Kinder zwischen 3 - 5 Jahren mit einer Begleitperson (263-7020) 
LOCATION:Treffpunkt Rotebergstr. 41 in Kelkheim-Hornau, Rotebergstr. 41, 65779 Kelkheim-Hornau
END:VEVENT
BEGIN:VEVENT
DTSTAMP:20260422T183053
DTSTART;TZID=Europe/Berlin:20260922T153000
DTEND;TZID=Europe/Berlin:20260922T170000
UID:263-7020-20260922T153000@KFBTAUNUS
SUMMARY:Natur macht Spaß für Kinder zwischen 3 - 5 Jahren mit einer Begleitperson (263-7020) 
LOCATION:Treffpunkt Rotebergstr. 41 in Kelkheim-Hornau, Rotebergstr. 41, 65779 Kelkheim-Hornau
END:VEVENT
END:VCALENDAR