BEGIN:VCALENDAR
VERSION:2.0
PRODID:https://www.kufer.de/kuferweb / DE
METHOD:PUBLISH
CALSCALE:GREGORIAN
X-WR-TIMEZONE:Europe/Berlin
BEGIN:VTIMEZONE
TZID:Europe/Berlin
X-LIC-LOCATION:Europe/Berlin
BEGIN:DAYLIGHT
TZOFFSETFROM:+0100
TZOFFSETTO:+0200
TZNAME:CEST
DTSTART:19700329T020000
RRULE:FREQ=YEARLY;INTERVAL=1;BYDAY=-1SU;BYMONTH=3
END:DAYLIGHT
BEGIN:STANDARD
TZOFFSETFROM:+0200
TZOFFSETTO:+0100
TZNAME:CET
DTSTART:19701025T030000
RRULE:FREQ=YEARLY;INTERVAL=1;BYDAY=-1SU;BYMONTH=10
END:STANDARD
END:VTIMEZONE
BEGIN:VEVENT
DTSTAMP:20260423T085551
DTSTART;TZID=Europe/Berlin:20261029T160000
DTEND;TZID=Europe/Berlin:20261029T170000
UID:263-7400-20261029T160000@KFBTAUNUS
SUMMARY:Stark gegen Stress - Der Kurs für mehr innere Stärke Mentale Stärkung & Stressbewältigung für Kinder von 11-14 Jahren (263-7400) 
LOCATION:Praxis f. Psychotherapie/Familienbegl., Adenauerallee 9, Oberursel, , 
END:VEVENT
BEGIN:VEVENT
DTSTAMP:20260423T085551
DTSTART;TZID=Europe/Berlin:20261105T160000
DTEND;TZID=Europe/Berlin:20261105T170000
UID:263-7400-20261105T160000@KFBTAUNUS
SUMMARY:Stark gegen Stress - Der Kurs für mehr innere Stärke Mentale Stärkung & Stressbewältigung für Kinder von 11-14 Jahren (263-7400) 
LOCATION:Praxis f. Psychotherapie/Familienbegl., Adenauerallee 9, Oberursel, , 
END:VEVENT
BEGIN:VEVENT
DTSTAMP:20260423T085551
DTSTART;TZID=Europe/Berlin:20261112T160000
DTEND;TZID=Europe/Berlin:20261112T170000
UID:263-7400-20261112T160000@KFBTAUNUS
SUMMARY:Stark gegen Stress - Der Kurs für mehr innere Stärke Mentale Stärkung & Stressbewältigung für Kinder von 11-14 Jahren (263-7400) 
LOCATION:Praxis f. Psychotherapie/Familienbegl., Adenauerallee 9, Oberursel, , 
END:VEVENT
BEGIN:VEVENT
DTSTAMP:20260423T085551
DTSTART;TZID=Europe/Berlin:20261112T190000
DTEND;TZID=Europe/Berlin:20261112T200000
UID:263-7400-20261112T190000@KFBTAUNUS
SUMMARY:Stark gegen Stress - Der Kurs für mehr innere Stärke Mentale Stärkung & Stressbewältigung für Kinder von 11-14 Jahren (263-7400) 
LOCATION:Praxis f. Psychotherapie/Familienbegl., Adenauerallee 9, Oberursel, , 
END:VEVENT
BEGIN:VEVENT
DTSTAMP:20260423T085551
DTSTART;TZID=Europe/Berlin:20261119T160000
DTEND;TZID=Europe/Berlin:20261119T170000
UID:263-7400-20261119T160000@KFBTAUNUS
SUMMARY:Stark gegen Stress - Der Kurs für mehr innere Stärke Mentale Stärkung & Stressbewältigung für Kinder von 11-14 Jahren (263-7400) 
LOCATION:Praxis f. Psychotherapie/Familienbegl., Adenauerallee 9, Oberursel, , 
END:VEVENT
END:VCALENDAR