BEGIN:VCALENDAR
VERSION:2.0
PRODID:https://www.kufer.de/kuferweb / DE
METHOD:PUBLISH
CALSCALE:GREGORIAN
X-WR-TIMEZONE:Europe/Berlin
BEGIN:VTIMEZONE
TZID:Europe/Berlin
X-LIC-LOCATION:Europe/Berlin
BEGIN:DAYLIGHT
TZOFFSETFROM:+0100
TZOFFSETTO:+0200
TZNAME:CEST
DTSTART:19700329T020000
RRULE:FREQ=YEARLY;INTERVAL=1;BYDAY=-1SU;BYMONTH=3
END:DAYLIGHT
BEGIN:STANDARD
TZOFFSETFROM:+0200
TZOFFSETTO:+0100
TZNAME:CET
DTSTART:19701025T030000
RRULE:FREQ=YEARLY;INTERVAL=1;BYDAY=-1SU;BYMONTH=10
END:STANDARD
END:VTIMEZONE
BEGIN:VEVENT
DTSTAMP:20260421T123336
DTSTART;TZID=Europe/Berlin:20260731T090000
DTEND;TZID=Europe/Berlin:20260731T103000
UID:26-165-20260731T090000@FBSMONTABAUR
SUMMARY:Eltern-Kind-Gruppe Großholbach für Eltern mit Kindern von 10 Monaten bis 3 Jahre (26-165) 
LOCATION:Großholbach, Kath. Pfarrheim, Kirchstraße 13, 56412 Großholbach
END:VEVENT
BEGIN:VEVENT
DTSTAMP:20260421T123336
DTSTART;TZID=Europe/Berlin:20260807T090000
DTEND;TZID=Europe/Berlin:20260807T103000
UID:26-165-20260807T090000@FBSMONTABAUR
SUMMARY:Eltern-Kind-Gruppe Großholbach für Eltern mit Kindern von 10 Monaten bis 3 Jahre (26-165) 
LOCATION:Großholbach, Kath. Pfarrheim, Kirchstraße 13, 56412 Großholbach
END:VEVENT
BEGIN:VEVENT
DTSTAMP:20260421T123336
DTSTART;TZID=Europe/Berlin:20260814T090000
DTEND;TZID=Europe/Berlin:20260814T103000
UID:26-165-20260814T090000@FBSMONTABAUR
SUMMARY:Eltern-Kind-Gruppe Großholbach für Eltern mit Kindern von 10 Monaten bis 3 Jahre (26-165) 
LOCATION:Großholbach, Kath. Pfarrheim, Kirchstraße 13, 56412 Großholbach
END:VEVENT
BEGIN:VEVENT
DTSTAMP:20260421T123336
DTSTART;TZID=Europe/Berlin:20260821T090000
DTEND;TZID=Europe/Berlin:20260821T103000
UID:26-165-20260821T090000@FBSMONTABAUR
SUMMARY:Eltern-Kind-Gruppe Großholbach für Eltern mit Kindern von 10 Monaten bis 3 Jahre (26-165) 
LOCATION:Großholbach, Kath. Pfarrheim, Kirchstraße 13, 56412 Großholbach
END:VEVENT
BEGIN:VEVENT
DTSTAMP:20260421T123336
DTSTART;TZID=Europe/Berlin:20260828T090000
DTEND;TZID=Europe/Berlin:20260828T103000
UID:26-165-20260828T090000@FBSMONTABAUR
SUMMARY:Eltern-Kind-Gruppe Großholbach für Eltern mit Kindern von 10 Monaten bis 3 Jahre (26-165) 
LOCATION:Großholbach, Kath. Pfarrheim, Kirchstraße 13, 56412 Großholbach
END:VEVENT
BEGIN:VEVENT
DTSTAMP:20260421T123336
DTSTART;TZID=Europe/Berlin:20260904T090000
DTEND;TZID=Europe/Berlin:20260904T103000
UID:26-165-20260904T090000@FBSMONTABAUR
SUMMARY:Eltern-Kind-Gruppe Großholbach für Eltern mit Kindern von 10 Monaten bis 3 Jahre (26-165) 
LOCATION:Großholbach, Kath. Pfarrheim, Kirchstraße 13, 56412 Großholbach
END:VEVENT
BEGIN:VEVENT
DTSTAMP:20260421T123336
DTSTART;TZID=Europe/Berlin:20260911T090000
DTEND;TZID=Europe/Berlin:20260911T103000
UID:26-165-20260911T090000@FBSMONTABAUR
SUMMARY:Eltern-Kind-Gruppe Großholbach für Eltern mit Kindern von 10 Monaten bis 3 Jahre (26-165) 
LOCATION:Großholbach, Kath. Pfarrheim, Kirchstraße 13, 56412 Großholbach
END:VEVENT
BEGIN:VEVENT
DTSTAMP:20260421T123336
DTSTART;TZID=Europe/Berlin:20260918T090000
DTEND;TZID=Europe/Berlin:20260918T103000
UID:26-165-20260918T090000@FBSMONTABAUR
SUMMARY:Eltern-Kind-Gruppe Großholbach für Eltern mit Kindern von 10 Monaten bis 3 Jahre (26-165) 
LOCATION:Großholbach, Kath. Pfarrheim, Kirchstraße 13, 56412 Großholbach
END:VEVENT
BEGIN:VEVENT
DTSTAMP:20260421T123336
DTSTART;TZID=Europe/Berlin:20260925T090000
DTEND;TZID=Europe/Berlin:20260925T103000
UID:26-165-20260925T090000@FBSMONTABAUR
SUMMARY:Eltern-Kind-Gruppe Großholbach für Eltern mit Kindern von 10 Monaten bis 3 Jahre (26-165) 
LOCATION:Großholbach, Kath. Pfarrheim, Kirchstraße 13, 56412 Großholbach
END:VEVENT
BEGIN:VEVENT
DTSTAMP:20260421T123336
DTSTART;TZID=Europe/Berlin:20261002T090000
DTEND;TZID=Europe/Berlin:20261002T103000
UID:26-165-20261002T090000@FBSMONTABAUR
SUMMARY:Eltern-Kind-Gruppe Großholbach für Eltern mit Kindern von 10 Monaten bis 3 Jahre (26-165) 
LOCATION:Großholbach, Kath. Pfarrheim, Kirchstraße 13, 56412 Großholbach
END:VEVENT
END:VCALENDAR