BEGIN:VCALENDAR
VERSION:2.0
PRODID:https://www.kufer.de/kuferweb / DE
METHOD:PUBLISH
CALSCALE:GREGORIAN
X-WR-TIMEZONE:Europe/Berlin
BEGIN:VTIMEZONE
TZID:Europe/Berlin
X-LIC-LOCATION:Europe/Berlin
BEGIN:DAYLIGHT
TZOFFSETFROM:+0100
TZOFFSETTO:+0200
TZNAME:CEST
DTSTART:19700329T020000
RRULE:FREQ=YEARLY;INTERVAL=1;BYDAY=-1SU;BYMONTH=3
END:DAYLIGHT
BEGIN:STANDARD
TZOFFSETFROM:+0200
TZOFFSETTO:+0100
TZNAME:CET
DTSTART:19701025T030000
RRULE:FREQ=YEARLY;INTERVAL=1;BYDAY=-1SU;BYMONTH=10
END:STANDARD
END:VTIMEZONE
BEGIN:VEVENT
DTSTAMP:20260421T115053
DTSTART;TZID=Europe/Berlin:20260612T110000
DTEND;TZID=Europe/Berlin:20260612T123000
UID:26-318-20260612T110000@FBSMONTABAUR
SUMMARY:PEKiP I in Montabaur für Ende November/ Dezember ´25 geborene Baby´s (26-318) 
LOCATION:Montabaur, Kath. Familienbildungsstätte - Kursraum, Auf dem Kalk 11, 56410 Montabaur
END:VEVENT
BEGIN:VEVENT
DTSTAMP:20260421T115053
DTSTART;TZID=Europe/Berlin:20260619T110000
DTEND;TZID=Europe/Berlin:20260619T123000
UID:26-318-20260619T110000@FBSMONTABAUR
SUMMARY:PEKiP I in Montabaur für Ende November/ Dezember ´25 geborene Baby´s (26-318) 
LOCATION:Montabaur, Kath. Familienbildungsstätte - Kursraum, Auf dem Kalk 11, 56410 Montabaur
END:VEVENT
BEGIN:VEVENT
DTSTAMP:20260421T115053
DTSTART;TZID=Europe/Berlin:20260703T110000
DTEND;TZID=Europe/Berlin:20260703T123000
UID:26-318-20260703T110000@FBSMONTABAUR
SUMMARY:PEKiP I in Montabaur für Ende November/ Dezember ´25 geborene Baby´s (26-318) 
LOCATION:Montabaur, Kath. Familienbildungsstätte - Kursraum, Auf dem Kalk 11, 56410 Montabaur
END:VEVENT
BEGIN:VEVENT
DTSTAMP:20260421T115053
DTSTART;TZID=Europe/Berlin:20260710T110000
DTEND;TZID=Europe/Berlin:20260710T123000
UID:26-318-20260710T110000@FBSMONTABAUR
SUMMARY:PEKiP I in Montabaur für Ende November/ Dezember ´25 geborene Baby´s (26-318) 
LOCATION:Montabaur, Kath. Familienbildungsstätte - Kursraum, Auf dem Kalk 11, 56410 Montabaur
END:VEVENT
BEGIN:VEVENT
DTSTAMP:20260421T115053
DTSTART;TZID=Europe/Berlin:20260807T110000
DTEND;TZID=Europe/Berlin:20260807T123000
UID:26-318-20260807T110000@FBSMONTABAUR
SUMMARY:PEKiP I in Montabaur für Ende November/ Dezember ´25 geborene Baby´s (26-318) 
LOCATION:Montabaur, Kath. Familienbildungsstätte - Kursraum, Auf dem Kalk 11, 56410 Montabaur
END:VEVENT
BEGIN:VEVENT
DTSTAMP:20260421T115053
DTSTART;TZID=Europe/Berlin:20260814T110000
DTEND;TZID=Europe/Berlin:20260814T123000
UID:26-318-20260814T110000@FBSMONTABAUR
SUMMARY:PEKiP I in Montabaur für Ende November/ Dezember ´25 geborene Baby´s (26-318) 
LOCATION:Montabaur, Kath. Familienbildungsstätte - Kursraum, Auf dem Kalk 11, 56410 Montabaur
END:VEVENT
BEGIN:VEVENT
DTSTAMP:20260421T115053
DTSTART;TZID=Europe/Berlin:20260821T110000
DTEND;TZID=Europe/Berlin:20260821T123000
UID:26-318-20260821T110000@FBSMONTABAUR
SUMMARY:PEKiP I in Montabaur für Ende November/ Dezember ´25 geborene Baby´s (26-318) 
LOCATION:Montabaur, Kath. Familienbildungsstätte - Kursraum, Auf dem Kalk 11, 56410 Montabaur
END:VEVENT
BEGIN:VEVENT
DTSTAMP:20260421T115053
DTSTART;TZID=Europe/Berlin:20260828T110000
DTEND;TZID=Europe/Berlin:20260828T123000
UID:26-318-20260828T110000@FBSMONTABAUR
SUMMARY:PEKiP I in Montabaur für Ende November/ Dezember ´25 geborene Baby´s (26-318) 
LOCATION:Montabaur, Kath. Familienbildungsstätte - Kursraum, Auf dem Kalk 11, 56410 Montabaur
END:VEVENT
BEGIN:VEVENT
DTSTAMP:20260421T115053
DTSTART;TZID=Europe/Berlin:20260904T110000
DTEND;TZID=Europe/Berlin:20260904T123000
UID:26-318-20260904T110000@FBSMONTABAUR
SUMMARY:PEKiP I in Montabaur für Ende November/ Dezember ´25 geborene Baby´s (26-318) 
LOCATION:Montabaur, Kath. Familienbildungsstätte - Kursraum, Auf dem Kalk 11, 56410 Montabaur
END:VEVENT
BEGIN:VEVENT
DTSTAMP:20260421T115053
DTSTART;TZID=Europe/Berlin:20260925T110000
DTEND;TZID=Europe/Berlin:20260925T123000
UID:26-318-20260925T110000@FBSMONTABAUR
SUMMARY:PEKiP I in Montabaur für Ende November/ Dezember ´25 geborene Baby´s (26-318) 
LOCATION:Montabaur, Kath. Familienbildungsstätte - Kursraum, Auf dem Kalk 11, 56410 Montabaur
END:VEVENT
END:VCALENDAR